BEGIN:VCALENDAR
VERSION:2.0
PRODID:-//China Spring Country Store - ECPv6.15.20//NONSGML v1.0//EN
CALSCALE:GREGORIAN
METHOD:PUBLISH
X-WR-CALNAME:China Spring Country Store
X-ORIGINAL-URL:https://chinaspringcountrystore.com
X-WR-CALDESC:Events for China Spring Country Store
REFRESH-INTERVAL;VALUE=DURATION:PT1H
X-Robots-Tag:noindex
X-PUBLISHED-TTL:PT1H
BEGIN:VTIMEZONE
TZID:America/Chicago
BEGIN:DAYLIGHT
TZOFFSETFROM:-0600
TZOFFSETTO:-0500
TZNAME:CDT
DTSTART:20220313T080000
END:DAYLIGHT
BEGIN:STANDARD
TZOFFSETFROM:-0500
TZOFFSETTO:-0600
TZNAME:CST
DTSTART:20221106T070000
END:STANDARD
BEGIN:DAYLIGHT
TZOFFSETFROM:-0600
TZOFFSETTO:-0500
TZNAME:CDT
DTSTART:20230312T080000
END:DAYLIGHT
BEGIN:STANDARD
TZOFFSETFROM:-0500
TZOFFSETTO:-0600
TZNAME:CST
DTSTART:20231105T070000
END:STANDARD
BEGIN:DAYLIGHT
TZOFFSETFROM:-0600
TZOFFSETTO:-0500
TZNAME:CDT
DTSTART:20240310T080000
END:DAYLIGHT
BEGIN:STANDARD
TZOFFSETFROM:-0500
TZOFFSETTO:-0600
TZNAME:CST
DTSTART:20241103T070000
END:STANDARD
BEGIN:DAYLIGHT
TZOFFSETFROM:-0600
TZOFFSETTO:-0500
TZNAME:CDT
DTSTART:20250309T080000
END:DAYLIGHT
BEGIN:STANDARD
TZOFFSETFROM:-0500
TZOFFSETTO:-0600
TZNAME:CST
DTSTART:20251102T070000
END:STANDARD
BEGIN:DAYLIGHT
TZOFFSETFROM:-0600
TZOFFSETTO:-0500
TZNAME:CDT
DTSTART:20260308T080000
END:DAYLIGHT
BEGIN:STANDARD
TZOFFSETFROM:-0500
TZOFFSETTO:-0600
TZNAME:CST
DTSTART:20261101T070000
END:STANDARD
END:VTIMEZONE
BEGIN:VEVENT
DTSTART;VALUE=DATE:20250808
DTEND;VALUE=DATE:20250811
DTSTAMP:20260422T154654
CREATED:20250806T164700Z
LAST-MODIFIED:20250806T164700Z
UID:21565-1754611200-1754870399@chinaspringcountrystore.com
SUMMARY:Back to School/Texas Tax Free Weekend Sale
DESCRIPTION:Shopping for Back to School this weekend? Make sure you stop and shop at China Spring Country Store for our Tax Free Weekend Sale. \n\nALL shoes on sale for $20\n30% OFF ALL Sleeveless blouses\n30% OFF ALL Dresses\n20% OFF ALL Drink Tumblers\n\nShop Friday-Sunday\, August 8-10 you will also save the sales tax during the statewide Texas Tax Free Weekend on eligible items.
URL:https://chinaspringcountrystore.com/event/back-to-school-texas-tax-free-weekend-sale/
LOCATION:China Spring Country Store
ATTACH;FMTTYPE=image/jpeg:https://chinaspringcountrystore.com/wp-content/uploads/2025/08/IMG_0213.jpeg
END:VEVENT
BEGIN:VEVENT
DTSTART;TZID=America/Chicago:20250326T173000
DTEND;TZID=America/Chicago:20250326T203000
DTSTAMP:20260422T154654
CREATED:20250304T185456Z
LAST-MODIFIED:20250304T185456Z
UID:18310-1743010200-1743021000@chinaspringcountrystore.com
SUMMARY:Cattle Mineral Meeting
DESCRIPTION:
URL:https://chinaspringcountrystore.com/event/cattle-mineral-meeting-3/
LOCATION:The Exchange Event Center\, 300 S Jefferson Ave\, McGregor\, Texas\, 76657
ATTACH;FMTTYPE=image/jpeg:https://chinaspringcountrystore.com/wp-content/uploads/2025/03/cm-meeting-2025.jpg
END:VEVENT
BEGIN:VEVENT
DTSTART;VALUE=DATE:20240828
DTEND;VALUE=DATE:20240903
DTSTAMP:20260422T154654
CREATED:20240802T184922Z
LAST-MODIFIED:20240802T184922Z
UID:15800-1724803200-1725321599@chinaspringcountrystore.com
SUMMARY:Labor Day Deer Corn Sale
DESCRIPTION:This is one of our biggest events every year! Our Annual Labor Day Corn Sale starts at the end of August! Are you a hunter? Or do you have a hunter in your family? BIG savings will happen again this year at China Spring Country Store during the big Labor Day Deer Corn Sale\, August 28 – September 2.  We are still working to finalize the details\, corn sale prices and items that will be on sale\, but we can tell you that deer corn will be on sale at lowest possible price!  Need to prep your lease and add a feeder or blind? Let us know! Our sister store has feeders from All Seasons Feeders\, HB Hunting Products\, Big Daddy and Outback Feeders and blinds from T-Box\,  Atascosa Blinds\, Bitter Creek\, Texas Hunter\, HB Hunting Products and All Seasons Feeders. We’d be happy to have them deliver exactly what you need to our store. \nWe’ll also have Pennington plot seed including Texas Complete seed\, attractants\, plot feed\, deer blocks\, solar panels\, wasp spray and more.  While you are here\, pick up your 2024-25 TPWD Hunting License too. They go on sale for the season on August 15. \nOur corn price will be announced on Wednesday morning\, Aug. 28 before the store opens. Keep a watch on our Facebook page for the most up to date info. The sale will start on Wednesday\, Aug. 28 and run thru Labor Day\, Monday\, Sept. 2\, 2024.
URL:https://chinaspringcountrystore.com/event/labor-day-deer-corn-sale-2/
LOCATION:China Spring Country Store
ATTACH;FMTTYPE=image/png:https://chinaspringcountrystore.com/wp-content/uploads/2021/08/corn-bag-2017.png
END:VEVENT
BEGIN:VEVENT
DTSTART;TZID=America/Chicago:20240704T080000
DTEND;TZID=America/Chicago:20240704T150000
DTSTAMP:20260422T154654
CREATED:20240628T172934Z
LAST-MODIFIED:20240628T172934Z
UID:15683-1720080000-1720105200@chinaspringcountrystore.com
SUMMARY:Open 4th of July
DESCRIPTION:Happy Independence Day!  We are open this year\, Thursday\, July 4 at 8:00am but closing early at 3pm. If you are out and about\, please stop and see us.  Wherever the day takes you\, we’d like to wish everyone a very safe and Happy 4th of July holiday.
URL:https://chinaspringcountrystore.com/event/open-4th-of-july/
LOCATION:China Spring Country Store
CATEGORIES:Holiday
ATTACH;FMTTYPE=image/png:https://chinaspringcountrystore.com/wp-content/uploads/2024/06/4th-of-july-4.png
END:VEVENT
BEGIN:VEVENT
DTSTART;VALUE=DATE:20230529
DTEND;VALUE=DATE:20230530
DTSTAMP:20260422T154654
CREATED:20230425T143539Z
LAST-MODIFIED:20230425T143539Z
UID:11817-1685318400-1685404799@chinaspringcountrystore.com
SUMMARY:Open Memorial Day
DESCRIPTION:China Spring Country Store will be OPEN normal business hours\, 8:00am – 6:30pm on Memorial Day\, Monday\, May 29\, 2023. \nOur country celebrates Memorial Day in remembrance of the men and women who died while serving in the United States Armed Forces. We are thankful for their service. \nPlease enjoy a very safe holiday weekend with your family and friends.
URL:https://chinaspringcountrystore.com/event/open-memorial-day/
LOCATION:China Spring Country Store
ATTACH;FMTTYPE=image/png:https://chinaspringcountrystore.com/wp-content/uploads/2023/04/memorial-day-23-a.png
END:VEVENT
END:VCALENDAR